BEGIN:VCALENDAR
VERSION:2.0
PRODID:-//Friends of Campbells Creek
CALSCALE:GREGORIAN
METHOD:PUBLISH
X-WR-CALNAME:Friends of Campbells Creek
X-ORIGINAL-URL:https://focc.org.au/event/april-general-meeting-2020/
X-WR-CALDESC:April General Meeting 2020
BEGIN:VEVENT
DTSTART:20200415T183000
DTEND:20200415T203000
SUMMARY:April General Meeting 2020
DESCRIPTION:
LOCATION:127 Main Rd, Campbells Creek VIC 3451
END:VEVENT
END:VCALENDAR
