BEGIN:VCALENDAR
VERSION:2.0
PRODID:-//Friends of Campbells Creek
CALSCALE:GREGORIAN
METHOD:PUBLISH
X-WR-CALNAME:Friends of Campbells Creek
X-ORIGINAL-URL:https://focc.org.au/event/protecting-new-growth/
X-WR-CALDESC:Protecting New Growth
BEGIN:VEVENT
DTSTART:20201206T100000
DTEND:20201206T120000
SUMMARY:Protecting New Growth
DESCRIPTION:
LOCATION:Honeycomb Dr, Castlemaine VIC 3450, Australia
END:VEVENT
END:VCALENDAR
