BEGIN:VCALENDAR
VERSION:2.0
PRODID:-//Friends of Campbells Creek
CALSCALE:GREGORIAN
METHOD:PUBLISH
X-WR-CALNAME:Friends of Campbells Creek
X-ORIGINAL-URL:https://focc.org.au/event/wattle/
X-WR-CALDESC:Wattle Working Bee 2020
BEGIN:VEVENT
DTSTART:20201108T100000
DTEND:20201108T120000
SUMMARY:Wattle Working Bee 2020
DESCRIPTION:
LOCATION:Honeycomb Dr, Castlemaine VIC 3450, Australia
END:VEVENT
END:VCALENDAR
