BEGIN:VCALENDAR
VERSION:2.0
PRODID:-//Friends of Campbells Creek
CALSCALE:GREGORIAN
METHOD:PUBLISH
X-WR-CALNAME:Friends of Campbells Creek
X-ORIGINAL-URL:https://focc.org.au/event/november-general-meeting-2020/
X-WR-CALDESC:November General Meeting 2020
BEGIN:VEVENT
DTSTART:20201111T193000
DTEND:20201111T210000
SUMMARY:November General Meeting 2020
DESCRIPTION:
LOCATION:Online Zoom Meeting
END:VEVENT
END:VCALENDAR
