BEGIN:VCALENDAR
VERSION:2.0
PRODID:-//Friends of Campbells Creek
CALSCALE:GREGORIAN
METHOD:PUBLISH
X-WR-CALNAME:Friends of Campbells Creek
X-ORIGINAL-URL:https://focc.org.au/event/ranters-gully/
X-WR-CALDESC:Ranters Gully Working Bee 2020
BEGIN:VEVENT
DTSTART:20201011T100000
DTEND:20201011T120000
SUMMARY:Ranters Gully Working Bee 2020
DESCRIPTION:
LOCATION:Near 10 Princess St Campbells Creek (see map link details in description)
END:VEVENT
END:VCALENDAR
