BEGIN:VCALENDAR
VERSION:2.0
PRODID:-//Friends of Campbells Creek
CALSCALE:GREGORIAN
METHOD:PUBLISH
X-WR-CALNAME:Friends of Campbells Creek
X-ORIGINAL-URL:https://focc.org.au/event/november-annual-meeting-2019-2/
X-WR-CALDESC:November Annual Meeting 2019 Copy
BEGIN:VEVENT
DTSTART:20191113T183000
DTEND:20191113T220000
SUMMARY:November Annual Meeting 2019 Copy
DESCRIPTION:
LOCATION:127 Main Rd, Campbells Creek VIC 3451
END:VEVENT
END:VCALENDAR
