BEGIN:VCALENDAR
VERSION:2.0
PRODID:-//Friends of Campbells Creek
CALSCALE:GREGORIAN
METHOD:PUBLISH
X-WR-CALNAME:Friends of Campbells Creek
X-ORIGINAL-URL:https://focc.org.au/event/local-shrub-day-working-bee-2020-3/
X-WR-CALDESC:Local Shrub Day Working Bee 2020
BEGIN:VEVENT
DTSTART:20200726T100000
DTEND:20200726T120000
SUMMARY:Local Shrub Day Working Bee 2020
DESCRIPTION:
LOCATION:Honeycomb Dr, Castlemaine VIC 3450, Australia
END:VEVENT
END:VCALENDAR
