BEGIN:VCALENDAR
VERSION:2.0
PRODID:-//Friends of Campbells Creek
CALSCALE:GREGORIAN
METHOD:PUBLISH
X-WR-CALNAME:Friends of Campbells Creek
X-ORIGINAL-URL:https://focc.org.au/event/july-general-meeting/
X-WR-CALDESC:July General Meeting 2020
BEGIN:VEVENT
DTSTART:20200715T063000
DTEND:20200715T203000
SUMMARY:July General Meeting 2020
DESCRIPTION:
LOCATION:Campbells Creek Primary School, Main Rd, Campbells Creek
END:VEVENT
END:VCALENDAR
