BEGIN:VCALENDAR
VERSION:2.0
PRODID:-//Friends of Campbells Creek
CALSCALE:GREGORIAN
METHOD:PUBLISH
X-WR-CALNAME:Friends of Campbells Creek
X-ORIGINAL-URL:https://focc.org.au/event/lomandra-planting-working-bee-2020/
X-WR-CALDESC:Lomandra Planting Working Bee 2020
BEGIN:VEVENT
DTSTART:20200621T100000
DTEND:20200621T120000
SUMMARY:Lomandra Planting Working Bee 2020
DESCRIPTION:
LOCATION:pin 	 Lewis Dr, Castlemaine VIC 3450, Australia
END:VEVENT
END:VCALENDAR
