BEGIN:VCALENDAR
VERSION:2.0
PRODID:-//Friends of Campbells Creek
CALSCALE:GREGORIAN
METHOD:PUBLISH
X-WR-CALNAME:Friends of Campbells Creek
X-ORIGINAL-URL:https://focc.org.au/event/castlemaine-working-bee-2020/
X-WR-CALDESC:Castlemaine Working Bee 2020
BEGIN:VEVENT
DTSTART:20200322T100000
DTEND:20200322T120000
SUMMARY:Castlemaine Working Bee 2020
DESCRIPTION:
LOCATION:Langslow Street, Castlemaine 3450
END:VEVENT
END:VCALENDAR
