BEGIN:VCALENDAR
VERSION:2.0
PRODID:-//Friends of Campbells Creek
CALSCALE:GREGORIAN
METHOD:PUBLISH
X-WR-CALNAME:Friends of Campbells Creek
X-ORIGINAL-URL:https://focc.org.au/event/we-are-back-working-bee-2020/
X-WR-CALDESC:We are Back Working Bee 2020
BEGIN:VEVENT
DTSTART:20200607T100000
DTEND:20200607T120000
SUMMARY:We are Back Working Bee 2020
DESCRIPTION:
LOCATION: Honeycomb Road, Campbells Creek VIC 3451
END:VEVENT
END:VCALENDAR
