BEGIN:VCALENDAR
VERSION:2.0
PRODID:-//Friends of Campbells Creek
CALSCALE:GREGORIAN
METHOD:PUBLISH
X-WR-CALNAME:Friends of Campbells Creek
X-ORIGINAL-URL:https://focc.org.au/event/tree-guard-working-bee-2019/
X-WR-CALDESC:Tree Guard Working Bee 2019
BEGIN:VEVENT
DTSTART:20191013T100000
DTEND:20191013T120000
SUMMARY:Tree Guard Working Bee 2019
DESCRIPTION:
LOCATION:127 Main Rd, Campbells Creek VIC 3451
END:VEVENT
END:VCALENDAR
