BEGIN:VCALENDAR
VERSION:2.0
PRODID:-//Friends of Campbells Creek
CALSCALE:GREGORIAN
METHOD:PUBLISH
X-WR-CALNAME:Friends of Campbells Creek
X-ORIGINAL-URL:https://focc.org.au/event/january-general-meeting-2020/
X-WR-CALDESC:January General Meeting 2020
BEGIN:VEVENT
DTSTART:20200129T183000
DTEND:20200129T203000
SUMMARY:January General Meeting 2020
DESCRIPTION:
LOCATION:127 Main Rd, Campbells Creek VIC 3451
END:VEVENT
END:VCALENDAR
