BEGIN:VCALENDAR
VERSION:2.0
PRODID:-//Friends of Campbells Creek
CALSCALE:GREGORIAN
METHOD:PUBLISH
X-WR-CALNAME:Friends of Campbells Creek
X-ORIGINAL-URL:https://focc.org.au/event/free-citizen-science-platypus-monitoring-workshop/
X-WR-CALDESC:March Platypus Monitoring Workshop
BEGIN:VEVENT
DTSTART:20200315T130000
DTEND:20200315T180000
SUMMARY:March Platypus Monitoring Workshop
DESCRIPTION:
LOCATION:45 Elizabeth St, Campbells Creek VIC 3451
END:VEVENT
END:VCALENDAR
